0.15000000000000
0.00000000000000
0.00000000000000
-0.15000000000000
457500.07500000001164
4861499.92499999981374
