0.15000000000000
0.00000000000000
0.00000000000000
-0.15000000000000
459750.07500000001164
4871999.92499999981374
