0.15000000000000
0.00000000000000
0.00000000000000
-0.15000000000000
465000.07500000001164
4875749.92499999981374
