0.15000000000000
0.00000000000000
0.00000000000000
-0.15000000000000
467250.07500000001164
4873499.92499999981374
