0.15000000000000
0.00000000000000
0.00000000000000
-0.15000000000000
470250.07500000001164
4865249.92499999981374
