0.15000000000000
0.00000000000000
0.00000000000000
-0.15000000000000
492750.07500000001164
4876499.92499999981374
