0.15000000000000
0.00000000000000
0.00000000000000
-0.15000000000000
559500.07499999995343
4493249.92499999981374
