0.150000
0.000000
0.000000
-0.150000
582750.075000
4581749.925000
