0.150000
0.000000
0.000000
-0.150000
584250.075000
4592249.925000
