0.150000
0.000000
0.000000
-0.150000
594750.075000
4545749.925000
