0.150000
0.000000
0.000000
-0.150000
585750.075000
4611749.925000
