0.5
0
0
-0.5
2462500.25
1412499.75
