0.5
0
0
-0.5
2480000.25
1429999.75
