0.5
0
0
-0.5
2485000.25
1402499.75
