0.5
0
0
-0.5
2500000.25
1404999.75
