0.5
0
0
-0.5
2532500.25
1399999.75
