0.5
0
0
-0.5
2547500.25
1367499.75
