0.5
0
0
-0.5
2550000.25
1354999.75
