0.5
0
0
-0.5
2550000.25
1394999.75
