0.5
0
0
-0.5
2565000.25
1404999.75
