0.304800
0.000000
0.000000
-0.304800
212765.057888
214817.852413
