0.304800
0.000000
0.000000
-0.304800
179657.304405
214838.731388
