0.3048000000
0.0000000000
0.0000000000
-0.3048000000
136619.1837840000
214879.7441060000
