0.304800
0.000000
0.000000
-0.304800
293731.1524
236307.8476
