0.304800
0.000000
0.000000
-0.304800
249105.1524
270354.8476
