0.304800
0.000000
0.000000
-0.304800
255612.1524
270350.8476
