0.304800
0.000000
-0.000000
-0.304800
192914.250886
270381.707975
