0.304800
0.000000
-0.000000
-0.304800
113644.025215
260064.955348
