0.304800
0.000000
-0.000000
-0.304800
368559.098914
191457.943828
