0.304800
0.000000
0.000000
-0.304800
202835.299105
218372.828744
