0.304800
0.000000
0.000000
-0.304800
361330.227700
263902.951909
