0.304815
0.000000
0.000000
-0.304815
315354.234565
255153.878225
