0.304800
0.000000
-0.000000
-0.304800
225998.270434
221966.725564
