0.304800
0.000000
0.000000
-0.304800
206138.023216
225306.712148
