0.304800
0.000000
0.000000
-0.304800
186334.252816
225252.762548
