0.304800
0.000000
0.000000
-0.304800
159858.105616
228893.903348
