0.304800
0.000000
0.000000
-0.304800
206157.1524
242727.8476
