0.304800
0.000000
0.000000
-0.304800
192932.1524
235783.8476
