0.304800
0.000000
0.000000
-0.304800
219341.271683
256630.703348
