0.304800
0.000000
-0.000000
-0.304800
209451.199216
249748.928948
