0.304800
0.000000
-0.000000
-0.304800
120248.138637
246200.842028
