0.304800
0.000000
0.000000
-0.304800
126851.085100
260008.841306
