0.350000
0.000000
-0.000000
-0.350000
260400.175000
4579399.825000
