0.350000
0.000000
-0.000000
-0.350000
266000.175000
4579399.825000
