0.350000
0.000000
-0.000000
-0.350000
292600.175000
4583599.825000
