0.350000
0.000000
-0.000000
-0.350000
306600.175000
4591999.825000
