0.350000
0.000000
-0.000000
-0.350000
322000.175000
4594799.825000
