0.350000
0.000000
-0.000000
-0.350000
109200.175000
3680599.825000
