0.350000
0.000000
-0.000000
-0.350000
110600.175000
3686199.825000
