0.350000
0.000000
-0.000000
-0.350000
113400.175000
3705799.825000
